BEGIN:VCALENDAR
VERSION:2.0
PRODID:-// - ECPv6.10.2//NONSGML v1.0//EN
CALSCALE:GREGORIAN
METHOD:PUBLISH
X-ORIGINAL-URL:https://www.lusocom.net
X-WR-CALDESC:Events for 
REFRESH-INTERVAL;VALUE=DURATION:PT1H
X-Robots-Tag:noindex
X-PUBLISHED-TTL:PT1H
BEGIN:VTIMEZONE
TZID:UTC
BEGIN:STANDARD
TZOFFSETFROM:+0000
TZOFFSETTO:+0000
TZNAME:UTC
DTSTART:20260101T000000
END:STANDARD
END:VTIMEZONE
BEGIN:VEVENT
DTSTART;VALUE=DATE:20260911
DTEND;VALUE=DATE:20260912
DTSTAMP:20260420T212143
CREATED:20260420T092951Z
LAST-MODIFIED:20260420T092951Z
UID:1773-1789084800-1789171199@www.lusocom.net
SUMMARY:8.º Encontro Nacional de Jovens Investigadores
DESCRIPTION:Encontra-se aberta a chamada para submissão de resumos para o 8.º Encontro Nacional de Jovens Investigadores\, uma iniciativa dinamizada pelo Grupo de Trabalho de Jovens Investigadores da SOPCOM\, este ano subordinada ao tema “Saúde\, Doença e Pessoas com Deficiência nos Media”. \nO encontro terá lugar no dia 11 de setembro de 2026\, na Escola Superior de Educação do Instituto Politécnico de Coimbra\, sendo promovido em parceria entre o Grupo de Trabalho e o Instituto Politécnico de Coimbra. \nTema e enquadramento \nEsta edição propõe-se refletir sobre os modos como a saúde\, a doença e a deficiência são representadas\, enquadradas e problematizadas nos media contemporâneos. Num contexto marcado pela intensificação dos fluxos informacionais e pela centralidade dos media digitais\, torna-se particularmente relevante analisar criticamente as narrativas que moldam perceções públicas\, influenciam atitudes sociais e impactam diretamente a vida das pessoas. \nSão bem-vindos contributos que abordem\, entre outras\, as seguintes dimensões: \n\nDesinformação em saúde\nRepresentações mediáticas da doença e da deficiência\nConstrução social da saúde\nVisibilidade e invisibilidade mediática\nÉtica da comunicação e mediação digital\n\n  \nDatas relevantes \n\nPrazo para submissão de resumos: 30 de junho de 2026\nComunicação de resultados: 17 de julho de 2026\nPrazo de inscrição: até 7 de agosto de 2026\nData do evento: 11 de setembro de 2026\n\nSubmissão de resumos \nOs/as interessados/as deverão submeter um resumo com um máximo de 300 palavras\, acompanhado de título e 3 a 5 palavras-chave\, através do seguinte formulário:\nhttps://docs.google.com/forms/d/e/1FAIpQLSduIKdYqRIb3Ie2GQmaInF7VPQayMlz1cgZnmpWBXO7V406mw/viewform?usp=publish-editor \nOs resumos deverão apresentar de forma clara o objeto de estudo\, o enquadramento teórico\, a metodologia (quando aplicável) e os principais contributos. As propostas serão avaliadas por revisão científica. \nEstrutura do evento \n\nSessão inaugural com conferência\nSessões paralelas de comunicações científicas\nSessão plenária com conferência\nMesa-redonda com participação de pessoas diretamente afetadas pelas temáticas em análise\nMomentos de debate e partilha entre investigadores/as e profissionais\n\nA participação no evento é gratuita\, estando apenas sujeita a inscrição prévia (informações a disponibilizar oportunamente). Para mais informações: gtjovensinvestigadores@gmail.com
URL:https://www.lusocom.net/event/8-o-encontro-nacional-de-jovens-investigadores/
CATEGORIES:Chamada de trabalhos,Congresso
END:VEVENT
END:VCALENDAR