BEGIN:VCALENDAR
VERSION:2.0
PRODID:-// - ECPv6.10.2//NONSGML v1.0//EN
CALSCALE:GREGORIAN
METHOD:PUBLISH
X-ORIGINAL-URL:https://www.lusocom.net
X-WR-CALDESC:Events for 
REFRESH-INTERVAL;VALUE=DURATION:PT1H
X-Robots-Tag:noindex
X-PUBLISHED-TTL:PT1H
BEGIN:VTIMEZONE
TZID:America/Sao_Paulo
BEGIN:STANDARD
TZOFFSETFROM:-0300
TZOFFSETTO:-0300
TZNAME:-03
DTSTART:20230101T000000
END:STANDARD
END:VTIMEZONE
BEGIN:VEVENT
DTSTART;TZID=America/Sao_Paulo:20230829T080000
DTEND;TZID=America/Sao_Paulo:20230908T170000
DTSTAMP:20260424T212005
CREATED:20230720T102833Z
LAST-MODIFIED:20230720T102856Z
UID:988-1693296000-1694192400@www.lusocom.net
SUMMARY:46º Congresso Brasileiro de Ciências da Comunicação
DESCRIPTION:O Congresso Brasileiro de Ciências da Comunicação acontece desde 1977 e reúne\, tradicionalmente\, cerca de 3\,5 mil pessoas\, entre alunos de graduação e pós-graduação\, pesquisadores e profissionais da área. No evento\, são debatidos tópicos de jornalismo\, relações públicas\, publicidade\, rádio\, televisão\, cinema\, produção editorial e de conteúdo para mídias digitais e políticas públicas de Comunicação\, entre outros. A cidade-sede muda a cada ano e é escolhida pelos sócios da Intercom\, em votação realizada no ano anterior. \n  \nDurante o congresso\, o maior do país na área\, há também a entrega de prêmios\, como o Luiz Beltrão\, concedido nas categorias “Liderança Emergente”\, “Maturidade Acadêmica” Grupo Inovador” e “Instituição Paradigmática”\, e os prêmios estudantis\, para alunos de graduação\, mestrado e doutorado. \nEm 2023\, o 46º Congresso Brasileiro de Ciências da Comunicação será híbrido\, tendo uma etapa remota\, realizada entre os dias 29 e 31 de agosto de 2023\, e uma etapa presencial \, entre os dias 05 e 08 de setembro de 2023\, na Pontifícia Universidade Católica de Minas – PUC Minas\, em Belo Horizonte\, com o tema central “Comunicação e políticas científicas: desmonte e reconstrução”. \nMais informações\, AQUI.
URL:https://www.lusocom.net/event/46o-congresso-brasileiro-de-ciencias-da-comunicacao/
LOCATION:Minas Gerais\, Brasil
CATEGORIES:Congresso
ATTACH;FMTTYPE=image/jpeg:https://www.lusocom.net/wp-content/uploads/2023/07/logo-intercom2023-portal.jpg
END:VEVENT
END:VCALENDAR